BEGIN:VCALENDAR
VERSION:2.0
PRODID:-//ChurchDev//Events//EN
CALSCALE:GREGORIAN
METHOD:PUBLISH
BEGIN:VEVENT
UID:5159-20240720@www.brentwoodfellowship.org
SUMMARY:Love Life Prayer Walk
DTSTART:20240720T164500Z
DTEND:20240720T174500Z
DESCRIPTION:https://www.brentwoodfellowship.org/events/love-life-prayer-walk/
LOCATION:3415 Walnut Blvd. Brentwood\, CA 94513
URL:https://www.brentwoodfellowship.org/events/love-life-prayer-walk/
DTSTAMP:20260419T182645Z
END:VEVENT
END:VCALENDAR
